BEGIN:VCALENDAR
VERSION:2.0
PRODID:icalendar-ruby
CALSCALE:GREGORIAN
METHOD:PUBLISH
BEGIN:VEVENT
DTSTAMP:20260424T232406Z
UID:12-560916@steadfasthomeschoolcooperative.com
DTSTART:20261009T170000Z
DTEND:20261009T220000Z
CLASS:PUBLIC
CREATED:20260424T161141
DESCRIPTION:
LAST-MODIFIED:20260424T161141
LOCATION:Steadfast Homeschool Co-op
SUMMARY:Regular Co-op Day
URL;VALUE=URI:https://www.steadfasthomeschoolcooperative.com/events/regular
 -co-op-day/2026-10-09
END:VEVENT
END:VCALENDAR
