BEGIN:VCALENDAR
VERSION:2.0
PRODID:icalendar-ruby
CALSCALE:GREGORIAN
METHOD:PUBLISH
BEGIN:VEVENT
DTSTAMP:20260424T214254Z
UID:12-560508@steadfasthomeschoolcooperative.com
DTSTART:20261002T170000Z
DTEND:20261002T220000Z
CLASS:PUBLIC
CREATED:20260424T132359
DESCRIPTION:
LAST-MODIFIED:20260424T132359
LOCATION:Steadfast Homeschool Co-op
SUMMARY:Regular Co-op Day
URL;VALUE=URI:https://www.steadfasthomeschoolcooperative.com/events/regular
 -co-op-day/2026-10-02
END:VEVENT
END:VCALENDAR
