BEGIN:VCALENDAR
VERSION:2.0
PRODID:icalendar-ruby
CALSCALE:GREGORIAN
METHOD:PUBLISH
BEGIN:VEVENT
DTSTAMP:20260424T195736Z
UID:12-560100@steadfasthomeschoolcooperative.com
DTSTART:20260925T170000Z
DTEND:20260925T220000Z
CLASS:PUBLIC
CREATED:20260424T103649
DESCRIPTION:
LAST-MODIFIED:20260424T103649
LOCATION:Steadfast Homeschool Co-op
SUMMARY:Regular Co-op Day
URL;VALUE=URI:https://www.steadfasthomeschoolcooperative.com/events/regular
 -co-op-day/2026-09-25
END:VEVENT
END:VCALENDAR
